BEGIN:VCALENDAR
VERSION:2.0
PRODID:-//Oregon Sportsman&#039;s Club - ECPv6.15.20//NONSGML v1.0//EN
CALSCALE:GREGORIAN
METHOD:PUBLISH
X-ORIGINAL-URL:https://oregonsportsmans.com
X-WR-CALDESC:Events for Oregon Sportsman&#039;s Club
REFRESH-INTERVAL;VALUE=DURATION:PT1H
X-Robots-Tag:noindex
X-PUBLISHED-TTL:PT1H
BEGIN:VTIMEZONE
TZID:America/Chicago
BEGIN:DAYLIGHT
TZOFFSETFROM:-0600
TZOFFSETTO:-0500
TZNAME:CDT
DTSTART:20220313T080000
END:DAYLIGHT
BEGIN:STANDARD
TZOFFSETFROM:-0500
TZOFFSETTO:-0600
TZNAME:CST
DTSTART:20221106T070000
END:STANDARD
BEGIN:DAYLIGHT
TZOFFSETFROM:-0600
TZOFFSETTO:-0500
TZNAME:CDT
DTSTART:20230312T080000
END:DAYLIGHT
BEGIN:STANDARD
TZOFFSETFROM:-0500
TZOFFSETTO:-0600
TZNAME:CST
DTSTART:20231105T070000
END:STANDARD
BEGIN:DAYLIGHT
TZOFFSETFROM:-0600
TZOFFSETTO:-0500
TZNAME:CDT
DTSTART:20240310T080000
END:DAYLIGHT
BEGIN:STANDARD
TZOFFSETFROM:-0500
TZOFFSETTO:-0600
TZNAME:CST
DTSTART:20241103T070000
END:STANDARD
END:VTIMEZONE
BEGIN:VEVENT
DTSTART;TZID=America/Chicago:20230812T090000
DTEND;TZID=America/Chicago:20230812T153000
DTSTAMP:20260420T162116
CREATED:20230513T235448Z
LAST-MODIFIED:20230513T235448Z
UID:10027140-1691830800-1691854200@oregonsportsmans.com
SUMMARY:Sporting Clays Shoot
DESCRIPTION:
URL:https://oregonsportsmans.com/event/sporting-clays-shoot-11/
LOCATION:Oregon Sportsman’s Club\, 1726 Sand Hill Road\, Oregon\, WI\, 53575\, United States
GEO:42.940854;-89.343431
X-APPLE-STRUCTURED-LOCATION;VALUE=URI;X-ADDRESS=Oregon Sportsman’s Club 1726 Sand Hill Road Oregon WI 53575 United States;X-APPLE-RADIUS=500;X-TITLE=1726 Sand Hill Road:geo:-89.343431,42.940854
END:VEVENT
BEGIN:VEVENT
DTSTART;TZID=America/Chicago:20230708T090000
DTEND;TZID=America/Chicago:20230708T153000
DTSTAMP:20260420T162116
CREATED:20230513T235356Z
LAST-MODIFIED:20230513T235356Z
UID:10027141-1688806800-1688830200@oregonsportsmans.com
SUMMARY:Sporting Clays Shoot
DESCRIPTION:
URL:https://oregonsportsmans.com/event/sporting-clays-shoot-3/
LOCATION:Oregon Sportsman’s Club\, 1726 Sand Hill Road\, Oregon\, WI\, 53575\, United States
GEO:42.940854;-89.343431
X-APPLE-STRUCTURED-LOCATION;VALUE=URI;X-ADDRESS=Oregon Sportsman’s Club 1726 Sand Hill Road Oregon WI 53575 United States;X-APPLE-RADIUS=500;X-TITLE=1726 Sand Hill Road:geo:-89.343431,42.940854
END:VEVENT
BEGIN:VEVENT
DTSTART;TZID=America/Chicago:20230610T090000
DTEND;TZID=America/Chicago:20230610T153000
DTSTAMP:20260420T162116
CREATED:20230513T235242Z
LAST-MODIFIED:20230513T235242Z
UID:10027142-1686387600-1686411000@oregonsportsmans.com
SUMMARY:Sporting Clays Shoot
DESCRIPTION:
URL:https://oregonsportsmans.com/event/sporting-clays-shoot-2/
LOCATION:Oregon Sportsman’s Club\, 1726 Sand Hill Road\, Oregon\, WI\, 53575\, United States
GEO:42.940854;-89.343431
X-APPLE-STRUCTURED-LOCATION;VALUE=URI;X-ADDRESS=Oregon Sportsman’s Club 1726 Sand Hill Road Oregon WI 53575 United States;X-APPLE-RADIUS=500;X-TITLE=1726 Sand Hill Road:geo:-89.343431,42.940854
END:VEVENT
BEGIN:VEVENT
DTSTART;TZID=America/Chicago:20230513T090000
DTEND;TZID=America/Chicago:20230513T153000
DTSTAMP:20260420T162116
CREATED:20230513T234820Z
LAST-MODIFIED:20230513T234838Z
UID:10027143-1683968400-1683991800@oregonsportsmans.com
SUMMARY:Sporting Clays Shoot
DESCRIPTION:
URL:https://oregonsportsmans.com/event/sporting-clays-shoot/
LOCATION:Oregon Sportsman’s Club\, 1726 Sand Hill Road\, Oregon\, WI\, 53575\, United States
GEO:42.940854;-89.343431
X-APPLE-STRUCTURED-LOCATION;VALUE=URI;X-ADDRESS=Oregon Sportsman’s Club 1726 Sand Hill Road Oregon WI 53575 United States;X-APPLE-RADIUS=500;X-TITLE=1726 Sand Hill Road:geo:-89.343431,42.940854
END:VEVENT
END:VCALENDAR